{"text_format":"3","workbook":"xlsx","n_sheets":1,"sheets":["7. LaryForm.BENL"],"not_rendered":{"images":1,"external_links":1,"defined_names":2},"read":"whole","date_system":"1900"}

{"sheet":"7. LaryForm.BENL","index":0,"n_rows":346,"n_cols":6,"rows_kept":346,"merged":[[138,0,138,2],[140,0,140,1],[141,0,141,1],[142,0,142,1],[143,0,143,1],[144,0,144,1]]}
[{"$nulls":5},{"$f":"VLOOKUP(A1,'[1]Vervallen producten'!G:G,1,FALSE)","v":{"$error":"#N/A"}}]
["Bestelformulier Provox en toebehoren 2024",{"$nulls":4},{"$f":"VLOOKUP(A2,'[1]Vervallen producten'!G:G,1,FALSE)","v":{"$error":"#N/A"}}]
[{"$nulls":5},{"$f":"VLOOKUP(A3,'[1]Vervallen producten'!G:G,1,FALSE)","v":{"$error":"#N/A"}}]
[{"$nulls":5},{"$f":"VLOOKUP(A4,'[1]Vervallen producten'!G:G,1,FALSE)","v":{"$error":"#N/A"}}]
["Referentie","Aantal","PROVOX HME CASSETTES ","Eenheidsprijs","Totaalprijs",{"$f":"VLOOKUP(A5,'[1]Vervallen producten'!G:G,1,FALSE)","v":{"$error":"#N/A"}}]
[7290,null,"Provox XtraMoist HME (30 stuks)",{"v":80.46,"d":"€ 80.46"},{"$f":"B6*D6","v":{"v":0,"d":"€ 0.00"}},{"$f":"VLOOKUP(A6,'[1]Vervallen producten'!G:G,1,FALSE)","v":{"$error":"#N/A"}}]
[7291,null,"Provox XtraFlow HME (30 stuks) ",{"v":80.46,"d":"€ 80.46"},{"$f":"B7*D7","v":{"v":0,"d":"€ 0.00"}},{"$f":"VLOOKUP(A7,'[1]Vervallen producten'!G:G,1,FALSE)","v":{"$error":"#N/A"}}]
[7247,null,"Provox Micron HME (5 stuks)",{"v":43.67,"d":"€ 43.67"},{"$f":"B8*D8","v":{"v":0,"d":"€ 0.00"}},{"$f":"VLOOKUP(A8,'[1]Vervallen producten'!G:G,1,FALSE)","v":{"$error":"#N/A"}}]
[7248,null,"Provox Micron HME (30 stuks)",{"v":261.93,"d":"€ 261.93"},{"$f":"B9*D9","v":{"v":0,"d":"€ 0.00"}},{"$f":"VLOOKUP(A9,'[1]Vervallen producten'!G:G,1,FALSE)","v":{"$error":"#N/A"}}]
[{"$nulls":5},{"$f":"VLOOKUP(A10,'[1]Vervallen producten'!G:G,1,FALSE)","v":{"$error":"#N/A"}}]
["Referentie","Aantal","PROVOX STOMAPLEISTERS","Eenheidsprijs","Totaalprijs",{"$f":"VLOOKUP(A11,'[1]Vervallen producten'!G:G,1,FALSE)","v":{"$error":"#N/A"}}]
[7253,null,"Provox FlexiDerm rond (20 stuks)",{"v":93.28,"d":"€ 93.28"},{"$f":"B12*D12","v":{"v":0,"d":"€ 0.00"}},{"$f":"VLOOKUP(A12,'[1]Vervallen producten'!G:G,1,FALSE)","v":{"$error":"#N/A"}}]
[7254,null,"Provox FlexiDerm ovaal (20 stuks)",{"v":93.28,"d":"€ 93.28"},{"v":0,"d":"€ 0.00"},{"$f":"VLOOKUP(A13,'[1]Vervallen producten'!G:G,1,FALSE)","v":{"$error":"#N/A"}}]
[7331,null,"Provox FlexiDerm plus (20 stuks) ",{"v":93.28,"d":"€ 93.28"},{"v":0,"d":"€ 0.00"},{"$f":"VLOOKUP(A14,'[1]Vervallen producten'!G:G,1,FALSE)","v":{"$error":"#N/A"}}]
[7255,null,"Provox OptiDerm rond (20 stuks)",{"v":158.15,"d":"€ 158.15"},{"v":0,"d":"€ 0.00"},{"$f":"VLOOKUP(A15,'[1]Vervallen producten'!G:G,1,FALSE)","v":{"$error":"#N/A"}}]
[7256,null,"Provox OptiDerm ovaal (20 stuks)",{"v":158.15,"d":"€ 158.15"},{"v":0,"d":"€ 0.00"},{"$f":"VLOOKUP(A16,'[1]Vervallen producten'!G:G,1,FALSE)","v":{"$error":"#N/A"}}]
[7332,null,"Provox OptiDerm plus (20 stuks) ",{"v":158.15,"d":"€ 158.15"},{"v":0,"d":"€ 0.00"},{"$f":"VLOOKUP(A17,'[1]Vervallen producten'!G:G,1,FALSE)","v":{"$error":"#N/A"}}]
[7265,null,"Provox XtraBase (20 stuks)",{"v":136.53,"d":"€ 136.53"},{"v":0,"d":"€ 0.00"},{"$f":"VLOOKUP(A18,'[1]Vervallen producten'!G:G,1,FALSE)","v":{"$error":"#N/A"}}]
[7289,null,"Provox StabiliBase (15 stuks)",{"v":117.66,"d":"€ 117.66"},{"v":0,"d":"€ 0.00"},{"$f":"VLOOKUP(A19,'[1]Vervallen producten'!G:G,1,FALSE)","v":{"$error":"#N/A"}}]
[7318,null,"Provox StabiliBase OptiDerm (15 stuks)",{"v":199.7,"d":"€ 199.70"},{"v":0,"d":"€ 0.00"},{"$f":"VLOOKUP(A20,'[1]Vervallen producten'!G:G,1,FALSE)","v":{"$error":"#N/A"}}]
[{"$nulls":5},{"$f":"VLOOKUP(A21,'[1]Vervallen producten'!G:G,1,FALSE)","v":{"$error":"#N/A"}}]
["Referentie","Aantal","PROVOX FREEHANDS FLEXIVOICE","Eenheidsprijs","Totaalprijs",{"$f":"VLOOKUP(A22,'[1]Vervallen producten'!G:G,1,FALSE)","v":{"$error":"#N/A"}}]
[8220,null,"Provox FreeHands HME XtraMoist (30 stuks)",{"v":91.37,"d":"€ 91.37"},{"$f":"B23*D23","v":{"v":0,"d":"€ 0.00"}},{"$f":"VLOOKUP(A23,'[1]Vervallen producten'!G:G,1,FALSE)","v":{"$error":"#N/A"}}]
[8221,null,"Provox FreeHands HME XtraFlow (30 stuks) ",{"v":91.37,"d":"€ 91.37"},{"v":0,"d":"€ 0.00"},{"$f":"VLOOKUP(A24,'[1]Vervallen producten'!G:G,1,FALSE)","v":{"$error":"#N/A"}}]
[7757,null,"Provox Freehands FlexiVoice Set Plus HME's",{"v":269.98,"d":"€ 269.98"},{"v":0,"d":"€ 0.00"},{"$f":"VLOOKUP(A25,'[1]Vervallen producten'!G:G,1,FALSE)","v":{"$error":"#N/A"}}]
[7760,null,"Provox FreeHands FlexiVoice Set",{"v":199,"d":"€ 199.00"},{"v":0,"d":"€ 0.00"},{"$f":"VLOOKUP(A26,'[1]Vervallen producten'!G:G,1,FALSE)","v":{"$error":"#N/A"}}]
[8161,null,"Provox FreeHands FlexiVoice Light",{"v":147.55,"d":"€ 147.55"},{"v":0,"d":"€ 0.00"},{"$f":"VLOOKUP(A27,'[1]Vervallen producten'!G:G,1,FALSE)","v":{"$error":"#N/A"}}]
[8162,null,"Provox FreeHands FlexiVoice Medium",{"v":147.55,"d":"€ 147.55"},{"v":0,"d":"€ 0.00"},{"$f":"VLOOKUP(A28,'[1]Vervallen producten'!G:G,1,FALSE)","v":{"$error":"#N/A"}}]
[8163,null,"Provox FreeHands FlexiVoice Strong",{"v":147.55,"d":"€ 147.55"},{"v":0,"d":"€ 0.00"},{"$f":"VLOOKUP(A29,'[1]Vervallen producten'!G:G,1,FALSE)","v":{"$error":"#N/A"}}]
[8166,null,"Provox FreeHands FlexiVoice XtraStrong",{"v":147.55,"d":"€ 147.55"},{"v":0,"d":"€ 0.00"},{"$f":"VLOOKUP(A30,'[1]Vervallen producten'!G:G,1,FALSE)","v":{"$error":"#N/A"}}]
[8165,null,"Provox FreeHands FlexiVoice Arch (beschermbeugel)",{"v":42.08,"d":"€ 42.08"},{"v":0,"d":"€ 0.00"},{"$f":"VLOOKUP(A31,'[1]Vervallen producten'!G:G,1,FALSE)","v":{"$error":"#N/A"}}]
[7730,null,"Provox HME Cap",{"v":60.63,"d":"€ 60.63"},{"v":0,"d":"€ 0.00"},{"$f":"VLOOKUP(A32,'[1]Vervallen producten'!G:G,1,FALSE)","v":{"$error":"#N/A"}}]
[{"$nulls":5},{"$f":"VLOOKUP(A33,'[1]Vervallen producten'!G:G,1,FALSE)","v":{"$error":"#N/A"}}]
["Referentie","Aantal","FREEHANDS SUPPORT","Eenheidsprijs","Totaalprijs",{"$f":"VLOOKUP(A34,'[1]Vervallen producten'!G:G,1,FALSE)","v":{"$error":"#N/A"}}]
[8020,null,"Provox FreeHands Support Starter Set (3 stuks)",{"v":13.79,"d":"€ 13.79"},{"$f":"B35*D35","v":{"v":0,"d":"€ 0.00"}},{"$f":"VLOOKUP(A35,'[1]Vervallen producten'!G:G,1,FALSE)","v":{"$error":"#N/A"}}]
[8021,null,"Provox FreeHands Support Flat",{"v":10.89,"d":"€ 10.89"},{"$f":"B36*D36","v":{"v":0,"d":"€ 0.00"}},{"$f":"VLOOKUP(A36,'[1]Vervallen producten'!G:G,1,FALSE)","v":{"$error":"#N/A"}}]
[8022,null,"Provox FreeHands Support Medium",{"v":10.89,"d":"€ 10.89"},{"$f":"B37*D37","v":{"v":0,"d":"€ 0.00"}},{"$f":"VLOOKUP(A37,'[1]Vervallen producten'!G:G,1,FALSE)","v":{"$error":"#N/A"}}]
[8023,null,"Provox FreeHands Support Deep",{"v":10.89,"d":"€ 10.89"},{"$f":"B38*D38","v":{"v":0,"d":"€ 0.00"}},{"$f":"VLOOKUP(A38,'[1]Vervallen producten'!G:G,1,FALSE)","v":{"$error":"#N/A"}}]
[8024,null,"Provox FreeHands Support Adhesive (15 stuks)",{"v":33.92,"d":"€ 33.92"},{"$f":"B39*D39","v":{"v":0,"d":"€ 0.00"}},{"$f":"VLOOKUP(A39,'[1]Vervallen producten'!G:G,1,FALSE)","v":{"$error":"#N/A"}}]
[{"$nulls":5},{"$f":"VLOOKUP(A40,'[1]Vervallen producten'!G:G,1,FALSE)","v":{"$error":"#N/A"}}]
["Referentie","Aantal","PROVOX SHOWER AID","Eenheidsprijs","Totaalprijs",{"$f":"VLOOKUP(A41,'[1]Vervallen producten'!G:G,1,FALSE)","v":{"$error":"#N/A"}}]
[7260,null,"Provox ShowerAid",{"v":40.36,"d":"€ 40.36"},{"$f":"B42*D42","v":{"v":0,"d":"€ 0.00"}},{"$f":"VLOOKUP(A42,'[1]Vervallen producten'!G:G,1,FALSE)","v":{"$error":"#N/A"}}]
[{"$nulls":5},{"$f":"VLOOKUP(A43,'[1]Vervallen producten'!G:G,1,FALSE)","v":{"$error":"#N/A"}}]
["Referentie","Aantal","ADAPTORS","Eenheidsprijs","Totaalprijs",{"$f":"VLOOKUP(A44,'[1]Vervallen producten'!G:G,1,FALSE)","v":{"$error":"#N/A"}}]
[19815,null,"HME Adaptator O2",{"v":64.45,"d":"€ 64.45"},{"$f":"B45*D45","v":{"v":0,"d":"€ 0.00"}},{"$f":"VLOOKUP(A45,'[1]Vervallen producten'!G:G,1,FALSE)","v":{"$error":"#N/A"}}]
[7246,null,"Provox HME Cassette Adaptor",{"v":86.82,"d":"€ 86.82"},{"$f":"B46*D46","v":{"v":0,"d":"€ 0.00"}},{"$f":"VLOOKUP(A46,'[1]Vervallen producten'!G:G,1,FALSE)","v":{"$error":"#N/A"}}]
[{"$nulls":5},{"$f":"VLOOKUP(A47,'[1]Vervallen producten'!G:G,1,FALSE)","v":{"$error":"#N/A"}}]
["Referentie","Aantal","ACCESSOIRES VOOR STEMPROTHESES","Eenheidsprijs","Totaalprijs",{"$f":"VLOOKUP(A48,'[1]Vervallen producten'!G:G,1,FALSE)","v":{"$error":"#N/A"}}]
[7204,null,"Provox Brush 4 - 10 mm (6 stuks)",{"v":29.95,"d":"€ 29.95"},{"$f":"B49*D49","v":{"v":0,"d":"€ 0.00"}},{"$f":"VLOOKUP(A49,'[1]Vervallen producten'!G:G,1,FALSE)","v":{"$error":"#N/A"}}]
[8404,null,"Provox Brush Long 4 - 10 mm (6 stuks)",{"v":29.95,"d":"€ 29.95"},{"v":0,"d":"€ 0.00"},{"$f":"VLOOKUP(A50,'[1]Vervallen producten'!G:G,1,FALSE)","v":{"$error":"#N/A"}}]
[7225,null,"Provox Brush XL 12,5 - 15 mm (6 stuks)",{"v":33.24,"d":"€ 33.24"},{"v":0,"d":"€ 0.00"},{"$f":"VLOOKUP(A51,'[1]Vervallen producten'!G:G,1,FALSE)","v":{"$error":"#N/A"}}]
[8425,null,"Provox Brush Long XL 12,5 - 15 mm (6 stuks)",{"v":33.24,"d":"€ 33.24"},{"v":0,"d":"€ 0.00"},{"$f":"VLOOKUP(A52,'[1]Vervallen producten'!G:G,1,FALSE)","v":{"$error":"#N/A"}}]
[8109,null,"Provox Flush",{"v":92.76,"d":"€ 92.76"},{"v":0,"d":"€ 0.00"},{"$f":"VLOOKUP(A53,'[1]Vervallen producten'!G:G,1,FALSE)","v":{"$error":"#N/A"}}]
[7205,null,"Provox ActiValve Plug met borsteltje incl. Provox Brush",{"v":24.94,"d":"€ 24.94"},{"v":0,"d":"€ 0.00"},{"$f":"VLOOKUP(A54,'[1]Vervallen producten'!G:G,1,FALSE)","v":{"$error":"#N/A"}}]
[8139,null,"Provox Vega Plug met borsteltje incl. Provox Brush (22,5 Fr)",{"v":27.94,"d":"€ 27.94"},{"v":0,"d":"€ 0.00"},{"$f":"VLOOKUP(A55,'[1]Vervallen producten'!G:G,1,FALSE)","v":{"$error":"#N/A"}}]
[7275,null,"Provox XtraFlange (22,5 Fr)",{"v":31.37,"d":"€ 31.37"},{"v":0,"d":"€ 0.00"},{"$f":"VLOOKUP(A56,'[1]Vervallen producten'!G:G,1,FALSE)","v":{"$error":"#N/A"}}]
[7149,null,"Provox ActiValve Lubricant ",{"v":43.25,"d":"€ 43.25"},{"v":0,"d":"€ 0.00"}]
[24362160,null,"Anatomisch pincet gebogen, 16 cm",{"v":10.89,"d":"€ 10.89"},{"v":0,"d":"€ 0.00"},{"$f":"VLOOKUP(A58,'[1]Vervallen producten'!G:G,1,FALSE)","v":{"$error":"#N/A"}}]
["109114FX ",null,"Anatomisch pincet recht 14,5 cm",{"v":22.51,"d":"€ 22.51"},{"$f":"B59*D59","v":{"v":0,"d":"€ 0.00"}}]
[69100,null,"Stomalampje met penlight batterijen",{"v":19.36,"d":"€ 19.36"},{"v":0,"d":"€ 0.00"},{"$f":"VLOOKUP(A60,'[1]Vervallen producten'!G:G,1,FALSE)","v":{"$error":"#N/A"}}]
[{"$nulls":5},{"$f":"VLOOKUP(A61,'[1]Vervallen producten'!G:G,1,FALSE)","v":{"$error":"#N/A"}}]
["Referentie","Aantal","ACCESSOIRES VOOR LARYTUBES","Eenheidsprijs","Totaalprijs",{"$f":"VLOOKUP(A62,'[1]Vervallen producten'!G:G,1,FALSE)","v":{"$error":"#N/A"}}]
[7660,null,"Provox TubeBrush 8 mm (6 stuks)",{"v":37.15,"d":"€ 37.15"},{"$f":"B63*D63","v":{"v":0,"d":"€ 0.00"}},{"$f":"VLOOKUP(A63,'[1]Vervallen producten'!G:G,1,FALSE)","v":{"$error":"#N/A"}}]
[7661,null,"Provox TubeBrush 12 mm (6 stuks)",{"v":37.15,"d":"€ 37.15"},{"v":0,"d":"€ 0.00"},{"$f":"VLOOKUP(A64,'[1]Vervallen producten'!G:G,1,FALSE)","v":{"$error":"#N/A"}}]
[8250,null,"Provox Swabs small",{"v":35.3,"d":"€ 35.30"},{"v":0,"d":"€ 0.00"},{"$f":"VLOOKUP(A65,'[1]Vervallen producten'!G:G,1,FALSE)","v":{"$error":"#N/A"}}]
[8251,null,"Provox Swabs medium",{"v":35.3,"d":"€ 35.30"},{"v":0,"d":"€ 0.00"},{"$f":"VLOOKUP(A66,'[1]Vervallen producten'!G:G,1,FALSE)","v":{"$error":"#N/A"}}]
[8252,null,"Provox Swabs large",{"v":35.3,"d":"€ 35.30"},{"v":0,"d":"€ 0.00"},{"$f":"VLOOKUP(A67,'[1]Vervallen producten'!G:G,1,FALSE)","v":{"$error":"#N/A"}}]
[8258,null,"Provox Swabs xtralarge",{"v":35.3,"d":"€ 35.30"},{"v":0,"d":"€ 0.00"},{"$f":"VLOOKUP(A68,'[1]Vervallen producten'!G:G,1,FALSE)","v":{"$error":"#N/A"}}]
[7669,null,"Provox LaryClip (8 stuks/40 pleisters)",{"v":109.63,"d":"€ 109.63"},{"v":0,"d":"€ 0.00"},{"$f":"VLOOKUP(A69,'[1]Vervallen producten'!G:G,1,FALSE)","v":{"$error":"#N/A"}}]
["REF 903-B",null,"Tracoe care Neck Strap, padded (1 stuk)",{"v":14.63,"d":"€ 14.63"},{"v":0,"d":"€ 0.00"},{"$f":"VLOOKUP(A70,'[1]Vervallen producten'!G:G,1,FALSE)","v":{"$error":"#N/A"}}]
["REF 903-E",null,"Tracoe care Neck Strap, one-piece, Velcro (1 stuk)",{"v":9.01,"d":"€ 9.01"},{"v":0,"d":"€ 0.00"},{"$f":"VLOOKUP(A71,'[1]Vervallen producten'!G:G,1,FALSE)","v":{"$error":"#N/A"}}]
["REF 903-F",null,"TRACOE Neck strap, hook and loop fastener (1 stuk)",{"v":13.04,"d":"€ 13.04"},{"v":0,"d":"€ 0.00"},{"$f":"VLOOKUP(A72,'[1]Vervallen producten'!G:G,1,FALSE)","v":{"$error":"#N/A"}}]
["REF 903-G",null,"Tracoe care Neck Strap, two-piece Velcro kids and neo (1 stuk)",{"v":10.71,"d":"€ 10.71"},{"v":0,"d":"€ 0.00"}]
[7668,null,"Provox TubeHolder",{"v":8.25,"d":"€ 8.25"},{"v":0,"d":"€ 0.00"}]
[1652,null,"Freevent Neckband Small (10 stuks)",{"v":56.27,"d":"€ 56.27"},{"v":0,"d":"€ 0.00"}]
[1662,null,"Freevent Neckband Large (10 stuks)",{"v":56.27,"d":"€ 56.27"},{"v":0,"d":"€ 0.00"},{"$f":"VLOOKUP(A76,'[1]Vervallen producten'!G:G,1,FALSE)","v":{"$error":"#N/A"}}]
[{"$nulls":5},{"$f":"VLOOKUP(A77,'[1]Vervallen producten'!G:G,1,FALSE)","v":{"$error":"#N/A"}}]
["Referentie","Aantal","VERZORGINGSPRODUCTEN","Eenheidsprijs","Totaalprijs",{"$f":"VLOOKUP(A78,'[1]Vervallen producten'!G:G,1,FALSE)","v":{"$error":"#N/A"}}]
[8011,null,"Provox Skin Barrier (50 stuks)",{"v":9.42,"d":"€ 9.42"},{"$f":"B79*D79","v":{"v":0,"d":"€ 0.00"}},{"$f":"VLOOKUP(A79,'[1]Vervallen producten'!G:G,1,FALSE)","v":{"$error":"#N/A"}}]
[8012,null,"Provox Adhesive Remover (50 stuks)",{"v":9.42,"d":"€ 9.42"},{"v":0,"d":"€ 0.00"},{"$f":"VLOOKUP(A80,'[1]Vervallen producten'!G:G,1,FALSE)","v":{"$error":"#N/A"}}]
[7244,null,"Provox Cleaning Towel (20x10 stuks)",{"v":52.14,"d":"€ 52.14"},{"v":0,"d":"€ 0.00"},{"$f":"VLOOKUP(A81,'[1]Vervallen producten'!G:G,1,FALSE)","v":{"$error":"#N/A"}}]
[3005719,null,"K-Y Jelly Gel Medical Steril Tube (82 gr) ",{"v":6.89,"d":"€ 6.89"},{"v":0,"d":"€ 0.00"},{"$f":"VLOOKUP(A82,'[1]Vervallen producten'!G:G,1,FALSE)","v":{"$error":"#N/A"}}]
[7720,null,"Provox Silicone Glue (30 ml)",{"v":36.3,"d":"€ 36.30"},{"v":0,"d":"€ 0.00"},{"$f":"VLOOKUP(A83,'[1]Vervallen producten'!G:G,1,FALSE)","v":{"$error":"#N/A"}}]
[{"$nulls":5},{"$f":"VLOOKUP(A84,'[1]Vervallen producten'!G:G,1,FALSE)","v":{"$error":"#N/A"}}]
["Referentie","Aantal","TRACHEOSTOMABESCHERMERS PROVOX - PROVOX PROTECTORS","Eenheidsprijs","Totaalprijs",{"$f":"VLOOKUP(A85,'[1]Vervallen producten'!G:G,1,FALSE)","v":{"$error":"#N/A"}}]
[7385,null,"Provox Protector wit, small (10 stuks)",{"v":64.493,"d":"€ 64.49"},{"$f":"B86*D86","v":{"v":0,"d":"€ 0.00"}},{"$f":"VLOOKUP(A86,'[1]Vervallen producten'!G:G,1,FALSE)","v":{"$error":"#N/A"}}]
[7386,null,"Provox Protector wit, large (10 stuks)",{"v":99.462,"d":"€ 99.46"},{"v":0,"d":"€ 0.00"},{"$f":"VLOOKUP(A87,'[1]Vervallen producten'!G:G,1,FALSE)","v":{"$error":"#N/A"}}]
[7391,null,"Provox Protector Air wit, small (10 stuks)",{"v":67.276,"d":"€ 67.28"},{"v":0,"d":"€ 0.00"},{"$f":"VLOOKUP(A88,'[1]Vervallen producten'!G:G,1,FALSE)","v":{"$error":"#N/A"}}]
[7392,null,"Provox Protector Air blauw, small (10 stuks)",{"v":67.276,"d":"€ 67.28"},{"v":0,"d":"€ 0.00"},{"$f":"VLOOKUP(A89,'[1]Vervallen producten'!G:G,1,FALSE)","v":{"$error":"#N/A"}}]
[7393,null,"Provox Protector Air wit, large (10 stuks)",{"v":77.924,"d":"€ 77.92"},{"v":0,"d":"€ 0.00"},{"$f":"VLOOKUP(A90,'[1]Vervallen producten'!G:G,1,FALSE)","v":{"$error":"#N/A"}}]
[7394,null,"Provox Protector Air blauw, large (10 stuks)",{"v":77.924,"d":"€ 77.92"},{"v":0,"d":"€ 0.00"},{"$f":"VLOOKUP(A91,'[1]Vervallen producten'!G:G,1,FALSE)","v":{"$error":"#N/A"}}]
[7387,null,"Provox Protector Slim wit, small (10 stuks)",{"v":56.507000000000005,"d":"€ 56.51"},{"v":0,"d":"€ 0.00"},{"$f":"VLOOKUP(A92,'[1]Vervallen producten'!G:G,1,FALSE)","v":{"$error":"#N/A"}}]
[7388,null,"Provox Protector Slim blauw, small (10 stuks)",{"v":56.507000000000005,"d":"€ 56.51"},{"v":0,"d":"€ 0.00"},{"$f":"VLOOKUP(A93,'[1]Vervallen producten'!G:G,1,FALSE)","v":{"$error":"#N/A"}}]
[7389,null,"Provox Protector Slim, wit, large (10 stuks)",{"v":77.924,"d":"€ 77.92"},{"v":0,"d":"€ 0.00"},{"$f":"VLOOKUP(A94,'[1]Vervallen producten'!G:G,1,FALSE)","v":{"$error":"#N/A"}}]
[7390,null,"Provox Protector Slim blauw, large (10 stuks)",{"v":77.924,"d":"€ 77.92"},{"v":0,"d":"€ 0.00"},{"$f":"VLOOKUP(A95,'[1]Vervallen producten'!G:G,1,FALSE)","v":{"$error":"#N/A"}}]
[{"$nulls":5},{"$f":"VLOOKUP(A96,'[1]Vervallen producten'!G:G,1,FALSE)","v":{"$error":"#N/A"}}]
["Referentie","Aantal","TRACHEOSTOMABESCHERMERS POLYESTER MET KLITTENBANDSLUITING","Eenheidsprijs","Totaalprijs",{"$f":"VLOOKUP(A97,'[1]Vervallen producten'!G:G,1,FALSE)","v":{"$error":"#N/A"}}]
["1410A1TG",null,"Freevent sjaalmodel stomabeschermer donkerblauw met witte stippen",{"v":12.09,"d":"€ 12.09"},{"$f":"B98*D98","v":{"v":0,"d":"€ 0.00"}},{"$f":"VLOOKUP(A98,'[1]Vervallen producten'!G:G,1,FALSE)","v":{"$error":"#N/A"}}]
["1410A3BP",null,"Freevent sjaalmodel stomabeschermer wit",{"v":12.09,"d":"€ 12.09"},{"v":0,"d":"€ 0.00"},{"$f":"VLOOKUP(A99,'[1]Vervallen producten'!G:G,1,FALSE)","v":{"$error":"#N/A"}}]
["1410A4BP",null,"Freevent sjaalmodel stomabeschermer zwart",{"v":12.09,"d":"€ 12.09"},{"v":0,"d":"€ 0.00"},{"$f":"VLOOKUP(A100,'[1]Vervallen producten'!G:G,1,FALSE)","v":{"$error":"#N/A"}}]
["1410A7BP",null,"Freevent sjaalmodel stomabeschermer beige",{"v":12.09,"d":"€ 12.09"},{"v":0,"d":"€ 0.00"},{"$f":"VLOOKUP(A101,'[1]Vervallen producten'!G:G,1,FALSE)","v":{"$error":"#N/A"}}]
["1410A15BP",null,"Freevent sjaalmodel stomabeschermer donkerblauw",{"v":12.09,"d":"€ 12.09"},{"v":0,"d":"€ 0.00"},{"$f":"VLOOKUP(A102,'[1]Vervallen producten'!G:G,1,FALSE)","v":{"$error":"#N/A"}}]
["1410A21BP",null,"Freevent sjaalmodel stomabeschermer grijs ",{"v":12.09,"d":"€ 12.09"},{"v":0,"d":"€ 0.00"},{"$f":"VLOOKUP(A103,'[1]Vervallen producten'!G:G,1,FALSE)","v":{"$error":"#N/A"}}]
[{"$nulls":5},{"$f":"VLOOKUP(A104,'[1]Vervallen producten'!G:G,1,FALSE)","v":{"$error":"#N/A"}}]
["Referentie","Aantal","TRACHEOSTOMABESCHERMERS GEORGETTE","Eenheidsprijs","Totaalprijs",{"$f":"VLOOKUP(A105,'[1]Vervallen producten'!G:G,1,FALSE)","v":{"$error":"#N/A"}}]
["1410A3TG",null,"Freevent sjaalmodel stomabeschermer wit",{"v":12.09,"d":"€ 12.09"},{"$f":"B106*D106","v":{"v":0,"d":"€ 0.00"}},{"$f":"VLOOKUP(A106,'[1]Vervallen producten'!G:G,1,FALSE)","v":{"$error":"#N/A"}}]
["1410A4TG",null,"Freevent sjaalmodel stomabeschermer zwart",{"v":12.09,"d":"€ 12.09"},{"$f":"B107*D107","v":{"v":0,"d":"€ 0.00"}},{"$f":"VLOOKUP(A107,'[1]Vervallen producten'!G:G,1,FALSE)","v":{"$error":"#N/A"}}]
["1410A9TG",null,"Freevent sjaalmodel stomabeschermer zwart met witte stippen",{"v":12.09,"d":"€ 12.09"},{"$f":"B108*D108","v":{"v":0,"d":"€ 0.00"}},{"$f":"VLOOKUP(A108,'[1]Vervallen producten'!G:G,1,FALSE)","v":{"$error":"#N/A"}}]
["1410A15TG",null,"Freevent sjaalmodel stomabeschermer donkerblauw",{"v":12.09,"d":"€ 12.09"},{"$f":"B109*D109","v":{"v":0,"d":"€ 0.00"}},{"$f":"VLOOKUP(A109,'[1]Vervallen producten'!G:G,1,FALSE)","v":{"$error":"#N/A"}}]
[{"$nulls":5},{"$f":"VLOOKUP(A110,'[1]Vervallen producten'!G:G,1,FALSE)","v":{"$error":"#N/A"}}]
["Referentie","Aantal","TRACHEOSTOMABESCHERMERS KATOEN T-SHIRTMODEL MET RITSSLUITING","Eenheidsprijs","Totaalprijs",{"$f":"VLOOKUP(A111,'[1]Vervallen producten'!G:G,1,FALSE)","v":{"$error":"#N/A"}}]
["1413RSR1",null,"Freevent t-shirtmodel stomabeschermer wit",{"v":23.87,"d":"€ 23.87"},{"$f":"B112*D112","v":{"v":0,"d":"€ 0.00"}},{"$f":"VLOOKUP(A112,'[1]Vervallen producten'!G:G,1,FALSE)","v":{"$error":"#N/A"}}]
["1413RSR2",null,"Freevent t-shirtmodel stomabeschermer beige",{"v":23.87,"d":"€ 23.87"},{"v":0,"d":"€ 0.00"},{"$f":"VLOOKUP(A113,'[1]Vervallen producten'!G:G,1,FALSE)","v":{"$error":"#N/A"}}]
["1413RSR4",null,"Freevent t-shirtmodel stomabeschermer blauw",{"v":23.87,"d":"€ 23.87"},{"v":0,"d":"€ 0.00"},{"$f":"VLOOKUP(A114,'[1]Vervallen producten'!G:G,1,FALSE)","v":{"$error":"#N/A"}}]
["1413RSR8",null,"Freevent t-shirtmodel stomabeschermer donkerblauw",{"v":23.87,"d":"€ 23.87"},{"v":0,"d":"€ 0.00"},{"$f":"VLOOKUP(A115,'[1]Vervallen producten'!G:G,1,FALSE)","v":{"$error":"#N/A"}}]
["1413RSR9",null,"Freevent t-shirtmodel stomabeschermer zwart",{"v":23.87,"d":"€ 23.87"},{"v":0,"d":"€ 0.00"},{"$f":"VLOOKUP(A116,'[1]Vervallen producten'!G:G,1,FALSE)","v":{"$error":"#N/A"}}]
["1413RSR11",null,"Freevent t-shirtmodel stomabeschermer grijs",{"v":23.87,"d":"€ 23.87"},{"v":0,"d":"€ 0.00"},{"$f":"VLOOKUP(A117,'[1]Vervallen producten'!G:G,1,FALSE)","v":{"$error":"#N/A"}}]
[{"$nulls":5},{"$f":"VLOOKUP(A118,'[1]Vervallen producten'!G:G,1,FALSE)","v":{"$error":"#N/A"}}]
["Referentie","Aantal","TRACHEOSTOMABESCHERMERS KATOEN T-SHIRTMODEL","Eenheidsprijs","Totaalprijs",{"$f":"VLOOKUP(A119,'[1]Vervallen producten'!G:G,1,FALSE)","v":{"$error":"#N/A"}}]
["1414RS1",null,"Freevent t-shirtmodel stomabeschermer wit",{"v":34.26,"d":"€ 34.26"},{"$f":"B120*D120","v":{"v":0,"d":"€ 0.00"}}]
["1414RS5",null,"Freevent t-shirtmodel stomabeschermer blauw",{"v":34.26,"d":"€ 34.26"},{"$f":"B121*D121","v":{"v":0,"d":"€ 0.00"}},{"$f":"VLOOKUP(A121,'[1]Vervallen producten'!G:G,1,FALSE)","v":{"$error":"#N/A"}}]
["1414RS6",null,"Freevent t-shirtmodel stomabeschermer zwart",{"v":34.26,"d":"€ 34.26"},{"$f":"B122*D122","v":{"v":0,"d":"€ 0.00"}},{"$f":"VLOOKUP(A122,'[1]Vervallen producten'!G:G,1,FALSE)","v":{"$error":"#N/A"}}]
[{"$nulls":5},{"$f":"VLOOKUP(A123,'[1]Vervallen producten'!G:G,1,FALSE)","v":{"$error":"#N/A"}}]
["Referentie","Aantal","TRACHEOKOMPRESSEN","Eenheidsprijs","Totaalprijs",{"$f":"VLOOKUP(A124,'[1]Vervallen producten'!G:G,1,FALSE)","v":{"$error":"#N/A"}}]
[1425,null,"Freevent Dressing AL 80x100 mm (10 stuks)",{"v":3.42,"d":"€ 3.42"},{"$f":"B125*D125","v":{"v":0,"d":"€ 0.00"}},{"$f":"VLOOKUP(A125,'[1]Vervallen producten'!G:G,1,FALSE)","v":{"$error":"#N/A"}}]
[14251,null,"Freevent Dressing AL with slit 80x100 mm (10 stuks)",{"v":3.42,"d":"€ 3.42"},{"$f":"B126*D126","v":{"v":0,"d":"€ 0.00"}},{"$f":"VLOOKUP(A126,'[1]Vervallen producten'!G:G,1,FALSE)","v":{"$error":"#N/A"}}]
["REF 905",null,"Tracoe Compresses, aluminium coated, 90x98 mm (10 stuks)",{"v":7.21,"d":"€ 7.21"},{"$f":"B127*D127","v":{"v":0,"d":"€ 0.00"}},{"$f":"VLOOKUP(A127,'[1]Vervallen producten'!G:G,1,FALSE)","v":{"$error":"#N/A"}}]
["REF 907-A",null,"Tracoe Compress, two-ply, without slit, 90x100 mm (10 stuks)",{"v":12.72,"d":"€ 12.72"},{"v":0,"d":"€ 0.00"},{"$f":"VLOOKUP(A128,'[1]Vervallen producten'!G:G,1,FALSE)","v":{"$error":"#N/A"}}]
["REF 907-B",null,"Tracoe Compress, two-ply, with zigzag slit, 90x100 mm (10 stuks)",{"v":12.72,"d":"€ 12.72"},{"v":0,"d":"€ 0.00"},{"$f":"VLOOKUP(A129,'[1]Vervallen producten'!G:G,1,FALSE)","v":{"$error":"#N/A"}}]
["REF 958",null,"Tracoe Purofoam Large, 90x100x5 mm (10 stuks)",{"v":87.45,"d":"€ 87.45"},{"v":0,"d":"€ 0.00"},{"$f":"VLOOKUP(A130,'[1]Vervallen producten'!G:G,1,FALSE)","v":{"$error":"#N/A"}}]
["REF 959",null,"Tracoe Purofoam Small, 65x65x5 mm (10 stuks)",{"v":87.45,"d":"€ 87.45"},{"v":0,"d":"€ 0.00"},{"$f":"VLOOKUP(A131,'[1]Vervallen producten'!G:G,1,FALSE)","v":{"$error":"#N/A"}}]
["REF 960",null,"Tracoe Compress, coated, with zigzag slit, 82x100 mm (10 stuks)",{"v":8.48,"d":"€ 8.48"},{"v":0,"d":"€ 0.00"},{"$f":"VLOOKUP(A132,'[1]Vervallen producten'!G:G,1,FALSE)","v":{"$error":"#N/A"}}]
["REF 961",null,"Tracoe Compress with zigzag slit, for neonates and children, 65x63 mm (10 stuks)",{"v":12.51,"d":"€ 12.51"},{"v":0,"d":"€ 0.00"},{"$f":"VLOOKUP(A133,'[1]Vervallen producten'!G:G,1,FALSE)","v":{"$error":"#N/A"}}]
["REF 969",null,"Tracoe softpad, 58x36 mm (10 stuks)",{"v":90.1,"d":"€ 90.10"},{"v":0,"d":"€ 0.00"},{"$f":"VLOOKUP(A134,'[1]Vervallen producten'!G:G,1,FALSE)","v":{"$error":"#N/A"}}]
["REF 957",null,"Tracoe compresses coated, 82x100 mm (10 stuks) ",{"v":13.25,"d":"€ 13.25"},{"v":0,"d":"€ 0.00"},{"$f":"VLOOKUP(A135,'[1]Vervallen producten'!G:G,1,FALSE)","v":{"$error":"#N/A"}}]
["1430H",null,"Tracheofix Wegwerpbef 1 strip skin 7x7 cm (10 stuks)",{"v":5.57,"d":"€ 5.57"},{"$f":"B136*D136","v":{"v":0,"d":"€ 0.00"}},{"$f":"VLOOKUP(A136,'[1]Vervallen producten'!G:G,1,FALSE)","v":{"$error":"#N/A"}}]
[{"$nulls":3},"Totaal",{"$f":"SUM(E5:E136)","v":{"v":0,"d":"€ 0.00"}},{"$f":"VLOOKUP(A137,'[1]Vervallen producten'!G:G,1,FALSE)","v":{"$error":"#N/A"}}]
[{"$nulls":5},{"$f":"VLOOKUP(A138,'[1]Vervallen producten'!G:G,1,FALSE)","v":{"$error":"#N/A"}}]
["Terugbetalingscode: 153650 - 153661 ; 153672 - 153683",{"$nulls":4},{"$f":"VLOOKUP(A139,'[1]Vervallen producten'!G:G,1,FALSE)","v":{"$error":"#N/A"}}]
["Tussenkomst RIZIV: maximaal 5 x 350,99 EUR / 12 maanden",{"$nulls":4},{"$f":"VLOOKUP(A140,'[1]Vervallen producten'!G:G,1,FALSE)","v":{"$error":"#N/A"}}]
["Naam patiënt:",null,null,"Datum:",null,{"$f":"VLOOKUP(A141,'[1]Vervallen producten'!G:G,1,FALSE)","v":{"$error":"#N/A"}}]
["Geboortedatum:",null,null,"Handtekening:",null,{"$f":"VLOOKUP(A142,'[1]Vervallen producten'!G:G,1,FALSE)","v":{"$error":"#N/A"}}]
["Arts:",{"$nulls":4},{"$f":"VLOOKUP(A143,'[1]Vervallen producten'!G:G,1,FALSE)","v":{"$error":"#N/A"}}]
["Ziekenhuis: ",{"$nulls":4},{"$f":"VLOOKUP(A144,'[1]Vervallen producten'!G:G,1,FALSE)","v":{"$error":"#N/A"}}]
["Bestelbonnummer: ",{"$nulls":4},{"$f":"VLOOKUP(A145,'[1]Vervallen producten'!G:G,1,FALSE)","v":{"$error":"#N/A"}}]
[{"$nulls":5},{"$f":"VLOOKUP(A146,'[1]Vervallen producten'!G:G,1,FALSE)","v":{"$error":"#N/A"}}]
[{"$nulls":5},{"$f":"VLOOKUP(#REF!,'[1]Vervallen producten'!G:G,1,FALSE)","v":{"$error":"#REF!"}}]
[{"$nulls":5},{"$f":"VLOOKUP(A148,'[1]Vervallen producten'!G:G,1,FALSE)","v":{"$error":"#N/A"}}]
[{"$nulls":5},{"$f":"VLOOKUP(A147,'[1]Vervallen producten'!G:G,1,FALSE)","v":{"$error":"#N/A"}}]
[{"$nulls":5},{"$f":"VLOOKUP(A149,'[1]Vervallen producten'!G:G,1,FALSE)","v":{"$error":"#N/A"}}]
[{"$nulls":5},{"$f":"VLOOKUP(A151,'[1]Vervallen producten'!G:G,1,FALSE)","v":{"$error":"#N/A"}}]
[{"$nulls":5},{"$f":"VLOOKUP(A152,'[1]Vervallen producten'!G:G,1,FALSE)","v":{"$error":"#N/A"}}]
[{"$nulls":5},{"$f":"VLOOKUP(A153,'[1]Vervallen producten'!G:G,1,FALSE)","v":{"$error":"#N/A"}}]
[]
[{"$nulls":5},{"$f":"VLOOKUP(A155,'[1]Vervallen producten'!G:G,1,FALSE)","v":{"$error":"#N/A"}}]
[{"$nulls":5},{"$f":"VLOOKUP(A156,'[1]Vervallen producten'!G:G,1,FALSE)","v":{"$error":"#N/A"}}]
[{"$nulls":5},{"$f":"VLOOKUP(A157,'[1]Vervallen producten'!G:G,1,FALSE)","v":{"$error":"#N/A"}}]
[{"$nulls":5},{"$f":"VLOOKUP(A158,'[1]Vervallen producten'!G:G,1,FALSE)","v":{"$error":"#N/A"}}]
[{"$nulls":5},{"$f":"VLOOKUP(A159,'[1]Vervallen producten'!G:G,1,FALSE)","v":{"$error":"#N/A"}}]
[{"$nulls":5},{"$f":"VLOOKUP(A160,'[1]Vervallen producten'!G:G,1,FALSE)","v":{"$error":"#N/A"}}]
[{"$nulls":5},{"$f":"VLOOKUP(A161,'[1]Vervallen producten'!G:G,1,FALSE)","v":{"$error":"#N/A"}}]
[{"$nulls":5},{"$f":"VLOOKUP(A162,'[1]Vervallen producten'!G:G,1,FALSE)","v":{"$error":"#N/A"}}]
[{"$nulls":5},{"$f":"VLOOKUP(A163,'[1]Vervallen producten'!G:G,1,FALSE)","v":{"$error":"#N/A"}}]
[{"$nulls":5},{"$f":"VLOOKUP(A164,'[1]Vervallen producten'!G:G,1,FALSE)","v":{"$error":"#N/A"}}]
[{"$nulls":5},{"$f":"VLOOKUP(A165,'[1]Vervallen producten'!G:G,1,FALSE)","v":{"$error":"#N/A"}}]
[{"$nulls":5},{"$f":"VLOOKUP(A166,'[1]Vervallen producten'!G:G,1,FALSE)","v":{"$error":"#N/A"}}]
[{"$nulls":5},{"$f":"VLOOKUP(A167,'[1]Vervallen producten'!G:G,1,FALSE)","v":{"$error":"#N/A"}}]
[{"$nulls":5},{"$f":"VLOOKUP(A168,'[1]Vervallen producten'!G:G,1,FALSE)","v":{"$error":"#N/A"}}]
[{"$nulls":5},{"$f":"VLOOKUP(A169,'[1]Vervallen producten'!G:G,1,FALSE)","v":{"$error":"#N/A"}}]
[{"$nulls":5},{"$f":"VLOOKUP(A170,'[1]Vervallen producten'!G:G,1,FALSE)","v":{"$error":"#N/A"}}]
[{"$nulls":5},{"$f":"VLOOKUP(A171,'[1]Vervallen producten'!G:G,1,FALSE)","v":{"$error":"#N/A"}}]
[{"$nulls":5},{"$f":"VLOOKUP(A172,'[1]Vervallen producten'!G:G,1,FALSE)","v":{"$error":"#N/A"}}]
[{"$nulls":5},{"$f":"VLOOKUP(A173,'[1]Vervallen producten'!G:G,1,FALSE)","v":{"$error":"#N/A"}}]
[{"$nulls":5},{"$f":"VLOOKUP(A174,'[1]Vervallen producten'!G:G,1,FALSE)","v":{"$error":"#N/A"}}]
[{"$nulls":5},{"$f":"VLOOKUP(A175,'[1]Vervallen producten'!G:G,1,FALSE)","v":{"$error":"#N/A"}}]
[{"$nulls":5},{"$f":"VLOOKUP(A176,'[1]Vervallen producten'!G:G,1,FALSE)","v":{"$error":"#N/A"}}]
[{"$nulls":5},{"$f":"VLOOKUP(A177,'[1]Vervallen producten'!G:G,1,FALSE)","v":{"$error":"#N/A"}}]
[{"$nulls":5},{"$f":"VLOOKUP(A178,'[1]Vervallen producten'!G:G,1,FALSE)","v":{"$error":"#N/A"}}]
[{"$nulls":5},{"$f":"VLOOKUP(A179,'[1]Vervallen producten'!G:G,1,FALSE)","v":{"$error":"#N/A"}}]
[{"$nulls":5},{"$f":"VLOOKUP(A180,'[1]Vervallen producten'!G:G,1,FALSE)","v":{"$error":"#N/A"}}]
[{"$nulls":5},{"$f":"VLOOKUP(A181,'[1]Vervallen producten'!G:G,1,FALSE)","v":{"$error":"#N/A"}}]
[{"$nulls":5},{"$f":"VLOOKUP(A182,'[1]Vervallen producten'!G:G,1,FALSE)","v":{"$error":"#N/A"}}]
[{"$nulls":5},{"$f":"VLOOKUP(A183,'[1]Vervallen producten'!G:G,1,FALSE)","v":{"$error":"#N/A"}}]
[{"$nulls":5},{"$f":"VLOOKUP(A184,'[1]Vervallen producten'!G:G,1,FALSE)","v":{"$error":"#N/A"}}]
[{"$nulls":5},{"$f":"VLOOKUP(A185,'[1]Vervallen producten'!G:G,1,FALSE)","v":{"$error":"#N/A"}}]
[{"$nulls":5},{"$f":"VLOOKUP(A186,'[1]Vervallen producten'!G:G,1,FALSE)","v":{"$error":"#N/A"}}]
[{"$nulls":5},{"$f":"VLOOKUP(A187,'[1]Vervallen producten'!G:G,1,FALSE)","v":{"$error":"#N/A"}}]
[{"$nulls":5},{"$f":"VLOOKUP(A188,'[1]Vervallen producten'!G:G,1,FALSE)","v":{"$error":"#N/A"}}]
[{"$nulls":5},{"$f":"VLOOKUP(A189,'[1]Vervallen producten'!G:G,1,FALSE)","v":{"$error":"#N/A"}}]
[{"$nulls":5},{"$f":"VLOOKUP(A190,'[1]Vervallen producten'!G:G,1,FALSE)","v":{"$error":"#N/A"}}]
[{"$nulls":5},{"$f":"VLOOKUP(A191,'[1]Vervallen producten'!G:G,1,FALSE)","v":{"$error":"#N/A"}}]
[{"$nulls":5},{"$f":"VLOOKUP(A192,'[1]Vervallen producten'!G:G,1,FALSE)","v":{"$error":"#N/A"}}]
[{"$nulls":5},{"$f":"VLOOKUP(A193,'[1]Vervallen producten'!G:G,1,FALSE)","v":{"$error":"#N/A"}}]
[{"$nulls":5},{"$f":"VLOOKUP(A194,'[1]Vervallen producten'!G:G,1,FALSE)","v":{"$error":"#N/A"}}]
[{"$nulls":5},{"$f":"VLOOKUP(A195,'[1]Vervallen producten'!G:G,1,FALSE)","v":{"$error":"#N/A"}}]
[{"$nulls":5},{"$f":"VLOOKUP(A196,'[1]Vervallen producten'!G:G,1,FALSE)","v":{"$error":"#N/A"}}]
[{"$nulls":5},{"$f":"VLOOKUP(A197,'[1]Vervallen producten'!G:G,1,FALSE)","v":{"$error":"#N/A"}}]
[{"$nulls":5},{"$f":"VLOOKUP(A198,'[1]Vervallen producten'!G:G,1,FALSE)","v":{"$error":"#N/A"}}]
[{"$nulls":5},{"$f":"VLOOKUP(A199,'[1]Vervallen producten'!G:G,1,FALSE)","v":{"$error":"#N/A"}}]
[{"$nulls":5},{"$f":"VLOOKUP(A200,'[1]Vervallen producten'!G:G,1,FALSE)","v":{"$error":"#N/A"}}]
[{"$nulls":5},{"$f":"VLOOKUP(A201,'[1]Vervallen producten'!G:G,1,FALSE)","v":{"$error":"#N/A"}}]
[{"$nulls":5},{"$f":"VLOOKUP(A202,'[1]Vervallen producten'!G:G,1,FALSE)","v":{"$error":"#N/A"}}]
[{"$nulls":5},{"$f":"VLOOKUP(A203,'[1]Vervallen producten'!G:G,1,FALSE)","v":{"$error":"#N/A"}}]
[{"$nulls":5},{"$f":"VLOOKUP(A204,'[1]Vervallen producten'!G:G,1,FALSE)","v":{"$error":"#N/A"}}]
[{"$nulls":5},{"$f":"VLOOKUP(A205,'[1]Vervallen producten'!G:G,1,FALSE)","v":{"$error":"#N/A"}}]
[{"$nulls":5},{"$f":"VLOOKUP(A206,'[1]Vervallen producten'!G:G,1,FALSE)","v":{"$error":"#N/A"}}]
[{"$nulls":5},{"$f":"VLOOKUP(A207,'[1]Vervallen producten'!G:G,1,FALSE)","v":{"$error":"#N/A"}}]
[{"$nulls":5},{"$f":"VLOOKUP(A208,'[1]Vervallen producten'!G:G,1,FALSE)","v":{"$error":"#N/A"}}]
[{"$nulls":5},{"$f":"VLOOKUP(A209,'[1]Vervallen producten'!G:G,1,FALSE)","v":{"$error":"#N/A"}}]
[{"$nulls":5},{"$f":"VLOOKUP(A210,'[1]Vervallen producten'!G:G,1,FALSE)","v":{"$error":"#N/A"}}]
[{"$nulls":5},{"$f":"VLOOKUP(A211,'[1]Vervallen producten'!G:G,1,FALSE)","v":{"$error":"#N/A"}}]
[{"$nulls":5},{"$f":"VLOOKUP(A212,'[1]Vervallen producten'!G:G,1,FALSE)","v":{"$error":"#N/A"}}]
[{"$nulls":5},{"$f":"VLOOKUP(A213,'[1]Vervallen producten'!G:G,1,FALSE)","v":{"$error":"#N/A"}}]
[{"$nulls":5},{"$f":"VLOOKUP(A214,'[1]Vervallen producten'!G:G,1,FALSE)","v":{"$error":"#N/A"}}]
[{"$nulls":5},{"$f":"VLOOKUP(A215,'[1]Vervallen producten'!G:G,1,FALSE)","v":{"$error":"#N/A"}}]
[{"$nulls":5},{"$f":"VLOOKUP(A216,'[1]Vervallen producten'!G:G,1,FALSE)","v":{"$error":"#N/A"}}]
[{"$nulls":5},{"$f":"VLOOKUP(A217,'[1]Vervallen producten'!G:G,1,FALSE)","v":{"$error":"#N/A"}}]
[{"$nulls":5},{"$f":"VLOOKUP(A218,'[1]Vervallen producten'!G:G,1,FALSE)","v":{"$error":"#N/A"}}]
[{"$nulls":5},{"$f":"VLOOKUP(A219,'[1]Vervallen producten'!G:G,1,FALSE)","v":{"$error":"#N/A"}}]
[{"$nulls":5},{"$f":"VLOOKUP(A220,'[1]Vervallen producten'!G:G,1,FALSE)","v":{"$error":"#N/A"}}]
[{"$nulls":5},{"$f":"VLOOKUP(A221,'[1]Vervallen producten'!G:G,1,FALSE)","v":{"$error":"#N/A"}}]
[{"$nulls":5},{"$f":"VLOOKUP(A222,'[1]Vervallen producten'!G:G,1,FALSE)","v":{"$error":"#N/A"}}]
[{"$nulls":5},{"$f":"VLOOKUP(A223,'[1]Vervallen producten'!G:G,1,FALSE)","v":{"$error":"#N/A"}}]
[{"$nulls":5},{"$f":"VLOOKUP(A224,'[1]Vervallen producten'!G:G,1,FALSE)","v":{"$error":"#N/A"}}]
[{"$nulls":5},{"$f":"VLOOKUP(A225,'[1]Vervallen producten'!G:G,1,FALSE)","v":{"$error":"#N/A"}}]
[{"$nulls":5},{"$f":"VLOOKUP(A226,'[1]Vervallen producten'!G:G,1,FALSE)","v":{"$error":"#N/A"}}]
[{"$nulls":5},{"$f":"VLOOKUP(A227,'[1]Vervallen producten'!G:G,1,FALSE)","v":{"$error":"#N/A"}}]
[{"$nulls":5},{"$f":"VLOOKUP(A228,'[1]Vervallen producten'!G:G,1,FALSE)","v":{"$error":"#N/A"}}]
[{"$nulls":5},{"$f":"VLOOKUP(A229,'[1]Vervallen producten'!G:G,1,FALSE)","v":{"$error":"#N/A"}}]
[{"$nulls":5},{"$f":"VLOOKUP(A230,'[1]Vervallen producten'!G:G,1,FALSE)","v":{"$error":"#N/A"}}]
[{"$nulls":5},{"$f":"VLOOKUP(A231,'[1]Vervallen producten'!G:G,1,FALSE)","v":{"$error":"#N/A"}}]
[{"$nulls":5},{"$f":"VLOOKUP(A232,'[1]Vervallen producten'!G:G,1,FALSE)","v":{"$error":"#N/A"}}]
[{"$nulls":5},{"$f":"VLOOKUP(A233,'[1]Vervallen producten'!G:G,1,FALSE)","v":{"$error":"#N/A"}}]
[{"$nulls":5},{"$f":"VLOOKUP(A234,'[1]Vervallen producten'!G:G,1,FALSE)","v":{"$error":"#N/A"}}]
[{"$nulls":5},{"$f":"VLOOKUP(A235,'[1]Vervallen producten'!G:G,1,FALSE)","v":{"$error":"#N/A"}}]
[{"$nulls":5},{"$f":"VLOOKUP(A236,'[1]Vervallen producten'!G:G,1,FALSE)","v":{"$error":"#N/A"}}]
[{"$nulls":5},{"$f":"VLOOKUP(A237,'[1]Vervallen producten'!G:G,1,FALSE)","v":{"$error":"#N/A"}}]
[{"$nulls":5},{"$f":"VLOOKUP(A238,'[1]Vervallen producten'!G:G,1,FALSE)","v":{"$error":"#N/A"}}]
[{"$nulls":5},{"$f":"VLOOKUP(A239,'[1]Vervallen producten'!G:G,1,FALSE)","v":{"$error":"#N/A"}}]
[{"$nulls":5},{"$f":"VLOOKUP(A240,'[1]Vervallen producten'!G:G,1,FALSE)","v":{"$error":"#N/A"}}]
[{"$nulls":5},{"$f":"VLOOKUP(A241,'[1]Vervallen producten'!G:G,1,FALSE)","v":{"$error":"#N/A"}}]
[{"$nulls":5},{"$f":"VLOOKUP(A242,'[1]Vervallen producten'!G:G,1,FALSE)","v":{"$error":"#N/A"}}]
[{"$nulls":5},{"$f":"VLOOKUP(A243,'[1]Vervallen producten'!G:G,1,FALSE)","v":{"$error":"#N/A"}}]
[{"$nulls":5},{"$f":"VLOOKUP(A244,'[1]Vervallen producten'!G:G,1,FALSE)","v":{"$error":"#N/A"}}]
[{"$nulls":5},{"$f":"VLOOKUP(A245,'[1]Vervallen producten'!G:G,1,FALSE)","v":{"$error":"#N/A"}}]
[{"$nulls":5},{"$f":"VLOOKUP(A246,'[1]Vervallen producten'!G:G,1,FALSE)","v":{"$error":"#N/A"}}]
[{"$nulls":5},{"$f":"VLOOKUP(A247,'[1]Vervallen producten'!G:G,1,FALSE)","v":{"$error":"#N/A"}}]
[{"$nulls":5},{"$f":"VLOOKUP(A248,'[1]Vervallen producten'!G:G,1,FALSE)","v":{"$error":"#N/A"}}]
[{"$nulls":5},{"$f":"VLOOKUP(A249,'[1]Vervallen producten'!G:G,1,FALSE)","v":{"$error":"#N/A"}}]
[{"$nulls":5},{"$f":"VLOOKUP(A250,'[1]Vervallen producten'!G:G,1,FALSE)","v":{"$error":"#N/A"}}]
[{"$nulls":5},{"$f":"VLOOKUP(A251,'[1]Vervallen producten'!G:G,1,FALSE)","v":{"$error":"#N/A"}}]
[{"$nulls":5},{"$f":"VLOOKUP(A252,'[1]Vervallen producten'!G:G,1,FALSE)","v":{"$error":"#N/A"}}]
[{"$nulls":5},{"$f":"VLOOKUP(A253,'[1]Vervallen producten'!G:G,1,FALSE)","v":{"$error":"#N/A"}}]
[{"$nulls":5},{"$f":"VLOOKUP(A254,'[1]Vervallen producten'!G:G,1,FALSE)","v":{"$error":"#N/A"}}]
[{"$nulls":5},{"$f":"VLOOKUP(A255,'[1]Vervallen producten'!G:G,1,FALSE)","v":{"$error":"#N/A"}}]
[{"$nulls":5},{"$f":"VLOOKUP(A256,'[1]Vervallen producten'!G:G,1,FALSE)","v":{"$error":"#N/A"}}]
[{"$nulls":5},{"$f":"VLOOKUP(A257,'[1]Vervallen producten'!G:G,1,FALSE)","v":{"$error":"#N/A"}}]
[{"$nulls":5},{"$f":"VLOOKUP(A258,'[1]Vervallen producten'!G:G,1,FALSE)","v":{"$error":"#N/A"}}]
[{"$nulls":5},{"$f":"VLOOKUP(A259,'[1]Vervallen producten'!G:G,1,FALSE)","v":{"$error":"#N/A"}}]
[{"$nulls":5},{"$f":"VLOOKUP(A260,'[1]Vervallen producten'!G:G,1,FALSE)","v":{"$error":"#N/A"}}]
[{"$nulls":5},{"$f":"VLOOKUP(A261,'[1]Vervallen producten'!G:G,1,FALSE)","v":{"$error":"#N/A"}}]
[{"$nulls":5},{"$f":"VLOOKUP(A262,'[1]Vervallen producten'!G:G,1,FALSE)","v":{"$error":"#N/A"}}]
[{"$nulls":5},{"$f":"VLOOKUP(A263,'[1]Vervallen producten'!G:G,1,FALSE)","v":{"$error":"#N/A"}}]
[{"$nulls":5},{"$f":"VLOOKUP(A264,'[1]Vervallen producten'!G:G,1,FALSE)","v":{"$error":"#N/A"}}]
[{"$nulls":5},{"$f":"VLOOKUP(A265,'[1]Vervallen producten'!G:G,1,FALSE)","v":{"$error":"#N/A"}}]
[{"$nulls":5},{"$f":"VLOOKUP(A266,'[1]Vervallen producten'!G:G,1,FALSE)","v":{"$error":"#N/A"}}]
[{"$nulls":5},{"$f":"VLOOKUP(A267,'[1]Vervallen producten'!G:G,1,FALSE)","v":{"$error":"#N/A"}}]
[{"$nulls":5},{"$f":"VLOOKUP(A268,'[1]Vervallen producten'!G:G,1,FALSE)","v":{"$error":"#N/A"}}]
[{"$nulls":5},{"$f":"VLOOKUP(A269,'[1]Vervallen producten'!G:G,1,FALSE)","v":{"$error":"#N/A"}}]
[{"$nulls":5},{"$f":"VLOOKUP(A270,'[1]Vervallen producten'!G:G,1,FALSE)","v":{"$error":"#N/A"}}]
[{"$nulls":5},{"$f":"VLOOKUP(A271,'[1]Vervallen producten'!G:G,1,FALSE)","v":{"$error":"#N/A"}}]
[{"$nulls":5},{"$f":"VLOOKUP(A272,'[1]Vervallen producten'!G:G,1,FALSE)","v":{"$error":"#N/A"}}]
[{"$nulls":5},{"$f":"VLOOKUP(A273,'[1]Vervallen producten'!G:G,1,FALSE)","v":{"$error":"#N/A"}}]
[{"$nulls":5},{"$f":"VLOOKUP(A274,'[1]Vervallen producten'!G:G,1,FALSE)","v":{"$error":"#N/A"}}]
[{"$nulls":5},{"$f":"VLOOKUP(A275,'[1]Vervallen producten'!G:G,1,FALSE)","v":{"$error":"#N/A"}}]
[{"$nulls":5},{"$f":"VLOOKUP(A276,'[1]Vervallen producten'!G:G,1,FALSE)","v":{"$error":"#N/A"}}]
[{"$nulls":5},{"$f":"VLOOKUP(A277,'[1]Vervallen producten'!G:G,1,FALSE)","v":{"$error":"#N/A"}}]
[{"$nulls":5},{"$f":"VLOOKUP(A278,'[1]Vervallen producten'!G:G,1,FALSE)","v":{"$error":"#N/A"}}]
[{"$nulls":5},{"$f":"VLOOKUP(A279,'[1]Vervallen producten'!G:G,1,FALSE)","v":{"$error":"#N/A"}}]
[{"$nulls":5},{"$f":"VLOOKUP(A280,'[1]Vervallen producten'!G:G,1,FALSE)","v":{"$error":"#N/A"}}]
[{"$nulls":5},{"$f":"VLOOKUP(A281,'[1]Vervallen producten'!G:G,1,FALSE)","v":{"$error":"#N/A"}}]
[{"$nulls":5},{"$f":"VLOOKUP(A282,'[1]Vervallen producten'!G:G,1,FALSE)","v":{"$error":"#N/A"}}]
[{"$nulls":5},{"$f":"VLOOKUP(A283,'[1]Vervallen producten'!G:G,1,FALSE)","v":{"$error":"#N/A"}}]
[{"$nulls":5},{"$f":"VLOOKUP(A284,'[1]Vervallen producten'!G:G,1,FALSE)","v":{"$error":"#N/A"}}]
[{"$nulls":5},{"$f":"VLOOKUP(A285,'[1]Vervallen producten'!G:G,1,FALSE)","v":{"$error":"#N/A"}}]
[{"$nulls":5},{"$f":"VLOOKUP(A286,'[1]Vervallen producten'!G:G,1,FALSE)","v":{"$error":"#N/A"}}]
[{"$nulls":5},{"$f":"VLOOKUP(A287,'[1]Vervallen producten'!G:G,1,FALSE)","v":{"$error":"#N/A"}}]
[{"$nulls":5},{"$f":"VLOOKUP(A288,'[1]Vervallen producten'!G:G,1,FALSE)","v":{"$error":"#N/A"}}]
[{"$nulls":5},{"$f":"VLOOKUP(A289,'[1]Vervallen producten'!G:G,1,FALSE)","v":{"$error":"#N/A"}}]
[{"$nulls":5},{"$f":"VLOOKUP(A290,'[1]Vervallen producten'!G:G,1,FALSE)","v":{"$error":"#N/A"}}]
[{"$nulls":5},{"$f":"VLOOKUP(A291,'[1]Vervallen producten'!G:G,1,FALSE)","v":{"$error":"#N/A"}}]
[{"$nulls":5},{"$f":"VLOOKUP(A292,'[1]Vervallen producten'!G:G,1,FALSE)","v":{"$error":"#N/A"}}]
[{"$nulls":5},{"$f":"VLOOKUP(A293,'[1]Vervallen producten'!G:G,1,FALSE)","v":{"$error":"#N/A"}}]
[{"$nulls":5},{"$f":"VLOOKUP(A294,'[1]Vervallen producten'!G:G,1,FALSE)","v":{"$error":"#N/A"}}]
[{"$nulls":5},{"$f":"VLOOKUP(A295,'[1]Vervallen producten'!G:G,1,FALSE)","v":{"$error":"#N/A"}}]
[{"$nulls":5},{"$f":"VLOOKUP(A296,'[1]Vervallen producten'!G:G,1,FALSE)","v":{"$error":"#N/A"}}]
[{"$nulls":5},{"$f":"VLOOKUP(A297,'[1]Vervallen producten'!G:G,1,FALSE)","v":{"$error":"#N/A"}}]
[{"$nulls":5},{"$f":"VLOOKUP(A298,'[1]Vervallen producten'!G:G,1,FALSE)","v":{"$error":"#N/A"}}]
[{"$nulls":5},{"$f":"VLOOKUP(A299,'[1]Vervallen producten'!G:G,1,FALSE)","v":{"$error":"#N/A"}}]
[{"$nulls":5},{"$f":"VLOOKUP(A300,'[1]Vervallen producten'!G:G,1,FALSE)","v":{"$error":"#N/A"}}]
[{"$nulls":5},{"$f":"VLOOKUP(A301,'[1]Vervallen producten'!G:G,1,FALSE)","v":{"$error":"#N/A"}}]
[{"$nulls":5},{"$f":"VLOOKUP(A302,'[1]Vervallen producten'!G:G,1,FALSE)","v":{"$error":"#N/A"}}]
[{"$nulls":5},{"$f":"VLOOKUP(A303,'[1]Vervallen producten'!G:G,1,FALSE)","v":{"$error":"#N/A"}}]
[{"$nulls":5},{"$f":"VLOOKUP(A304,'[1]Vervallen producten'!G:G,1,FALSE)","v":{"$error":"#N/A"}}]
[{"$nulls":5},{"$f":"VLOOKUP(A305,'[1]Vervallen producten'!G:G,1,FALSE)","v":{"$error":"#N/A"}}]
[{"$nulls":5},{"$f":"VLOOKUP(A306,'[1]Vervallen producten'!G:G,1,FALSE)","v":{"$error":"#N/A"}}]
[{"$nulls":5},{"$f":"VLOOKUP(A307,'[1]Vervallen producten'!G:G,1,FALSE)","v":{"$error":"#N/A"}}]
[{"$nulls":5},{"$f":"VLOOKUP(A308,'[1]Vervallen producten'!G:G,1,FALSE)","v":{"$error":"#N/A"}}]
[{"$nulls":5},{"$f":"VLOOKUP(A309,'[1]Vervallen producten'!G:G,1,FALSE)","v":{"$error":"#N/A"}}]
[{"$nulls":5},{"$f":"VLOOKUP(A310,'[1]Vervallen producten'!G:G,1,FALSE)","v":{"$error":"#N/A"}}]
[{"$nulls":5},{"$f":"VLOOKUP(A311,'[1]Vervallen producten'!G:G,1,FALSE)","v":{"$error":"#N/A"}}]
[{"$nulls":5},{"$f":"VLOOKUP(A312,'[1]Vervallen producten'!G:G,1,FALSE)","v":{"$error":"#N/A"}}]
[{"$nulls":5},{"$f":"VLOOKUP(A313,'[1]Vervallen producten'!G:G,1,FALSE)","v":{"$error":"#N/A"}}]
[{"$nulls":5},{"$f":"VLOOKUP(A314,'[1]Vervallen producten'!G:G,1,FALSE)","v":{"$error":"#N/A"}}]
[{"$nulls":5},{"$f":"VLOOKUP(A315,'[1]Vervallen producten'!G:G,1,FALSE)","v":{"$error":"#N/A"}}]
[{"$nulls":5},{"$f":"VLOOKUP(A316,'[1]Vervallen producten'!G:G,1,FALSE)","v":{"$error":"#N/A"}}]
[{"$nulls":5},{"$f":"VLOOKUP(A317,'[1]Vervallen producten'!G:G,1,FALSE)","v":{"$error":"#N/A"}}]
[{"$nulls":5},{"$f":"VLOOKUP(A318,'[1]Vervallen producten'!G:G,1,FALSE)","v":{"$error":"#N/A"}}]
[{"$nulls":5},{"$f":"VLOOKUP(A319,'[1]Vervallen producten'!G:G,1,FALSE)","v":{"$error":"#N/A"}}]
[{"$nulls":5},{"$f":"VLOOKUP(A320,'[1]Vervallen producten'!G:G,1,FALSE)","v":{"$error":"#N/A"}}]
[{"$nulls":5},{"$f":"VLOOKUP(A321,'[1]Vervallen producten'!G:G,1,FALSE)","v":{"$error":"#N/A"}}]
[{"$nulls":5},{"$f":"VLOOKUP(A322,'[1]Vervallen producten'!G:G,1,FALSE)","v":{"$error":"#N/A"}}]
[{"$nulls":5},{"$f":"VLOOKUP(A323,'[1]Vervallen producten'!G:G,1,FALSE)","v":{"$error":"#N/A"}}]
[{"$nulls":5},{"$f":"VLOOKUP(A324,'[1]Vervallen producten'!G:G,1,FALSE)","v":{"$error":"#N/A"}}]
[{"$nulls":5},{"$f":"VLOOKUP(A325,'[1]Vervallen producten'!G:G,1,FALSE)","v":{"$error":"#N/A"}}]
[{"$nulls":5},{"$f":"VLOOKUP(A326,'[1]Vervallen producten'!G:G,1,FALSE)","v":{"$error":"#N/A"}}]
[{"$nulls":5},{"$f":"VLOOKUP(A327,'[1]Vervallen producten'!G:G,1,FALSE)","v":{"$error":"#N/A"}}]
[{"$nulls":5},{"$f":"VLOOKUP(A328,'[1]Vervallen producten'!G:G,1,FALSE)","v":{"$error":"#N/A"}}]
[{"$nulls":5},{"$f":"VLOOKUP(A329,'[1]Vervallen producten'!G:G,1,FALSE)","v":{"$error":"#N/A"}}]
[{"$nulls":5},{"$f":"VLOOKUP(A330,'[1]Vervallen producten'!G:G,1,FALSE)","v":{"$error":"#N/A"}}]
[{"$nulls":5},{"$f":"VLOOKUP(A331,'[1]Vervallen producten'!G:G,1,FALSE)","v":{"$error":"#N/A"}}]
[{"$nulls":5},{"$f":"VLOOKUP(A332,'[1]Vervallen producten'!G:G,1,FALSE)","v":{"$error":"#N/A"}}]
[{"$nulls":5},{"$f":"VLOOKUP(A333,'[1]Vervallen producten'!G:G,1,FALSE)","v":{"$error":"#N/A"}}]
[{"$nulls":5},{"$f":"VLOOKUP(A334,'[1]Vervallen producten'!G:G,1,FALSE)","v":{"$error":"#N/A"}}]
[{"$nulls":5},{"$f":"VLOOKUP(A335,'[1]Vervallen producten'!G:G,1,FALSE)","v":{"$error":"#N/A"}}]
[{"$nulls":5},{"$f":"VLOOKUP(A336,'[1]Vervallen producten'!G:G,1,FALSE)","v":{"$error":"#N/A"}}]
[{"$nulls":5},{"$f":"VLOOKUP(A337,'[1]Vervallen producten'!G:G,1,FALSE)","v":{"$error":"#N/A"}}]
[{"$nulls":5},{"$f":"VLOOKUP(A338,'[1]Vervallen producten'!G:G,1,FALSE)","v":{"$error":"#N/A"}}]
[{"$nulls":5},{"$f":"VLOOKUP(A339,'[1]Vervallen producten'!G:G,1,FALSE)","v":{"$error":"#N/A"}}]
[{"$nulls":5},{"$f":"VLOOKUP(A340,'[1]Vervallen producten'!G:G,1,FALSE)","v":{"$error":"#N/A"}}]
[{"$nulls":5},{"$f":"VLOOKUP(A341,'[1]Vervallen producten'!G:G,1,FALSE)","v":{"$error":"#N/A"}}]
[{"$nulls":5},{"$f":"VLOOKUP(A342,'[1]Vervallen producten'!G:G,1,FALSE)","v":{"$error":"#N/A"}}]
[{"$nulls":5},{"$f":"VLOOKUP(A343,'[1]Vervallen producten'!G:G,1,FALSE)","v":{"$error":"#N/A"}}]
[{"$nulls":5},{"$f":"VLOOKUP(A344,'[1]Vervallen producten'!G:G,1,FALSE)","v":{"$error":"#N/A"}}]
[{"$nulls":5},{"$f":"VLOOKUP(A345,'[1]Vervallen producten'!G:G,1,FALSE)","v":{"$error":"#N/A"}}]
[{"$nulls":5},{"$f":"VLOOKUP(A346,'[1]Vervallen producten'!G:G,1,FALSE)","v":{"$error":"#N/A"}}]